BEGIN:VCALENDAR
VERSION:2.0
PRODID:-//Abundant Living with Vicki - ECPv6.15.20//NONSGML v1.0//EN
CALSCALE:GREGORIAN
METHOD:PUBLISH
X-WR-CALNAME:Abundant Living with Vicki
X-ORIGINAL-URL:https://abundantlivingwithvicki.com
X-WR-CALDESC:Events for Abundant Living with Vicki
REFRESH-INTERVAL;VALUE=DURATION:PT1H
X-Robots-Tag:noindex
X-PUBLISHED-TTL:PT1H
BEGIN:VTIMEZONE
TZID:America/Chicago
BEGIN:DAYLIGHT
TZOFFSETFROM:-0600
TZOFFSETTO:-0500
TZNAME:CDT
DTSTART:20250309T080000
END:DAYLIGHT
BEGIN:STANDARD
TZOFFSETFROM:-0500
TZOFFSETTO:-0600
TZNAME:CST
DTSTART:20251102T070000
END:STANDARD
BEGIN:DAYLIGHT
TZOFFSETFROM:-0600
TZOFFSETTO:-0500
TZNAME:CDT
DTSTART:20260308T080000
END:DAYLIGHT
BEGIN:STANDARD
TZOFFSETFROM:-0500
TZOFFSETTO:-0600
TZNAME:CST
DTSTART:20261101T070000
END:STANDARD
BEGIN:DAYLIGHT
TZOFFSETFROM:-0600
TZOFFSETTO:-0500
TZNAME:CDT
DTSTART:20270314T080000
END:DAYLIGHT
BEGIN:STANDARD
TZOFFSETFROM:-0500
TZOFFSETTO:-0600
TZNAME:CST
DTSTART:20271107T070000
END:STANDARD
END:VTIMEZONE
BEGIN:VEVENT
DTSTART;TZID=America/Chicago:20260829T100000
DTEND;TZID=America/Chicago:20260829T130000
DTSTAMP:20260423T123229
CREATED:20260220T223042Z
LAST-MODIFIED:20260220T223042Z
UID:2131-1787997600-1788008400@abundantlivingwithvicki.com
SUMMARY:Richfield Farmers Market: August
DESCRIPTION:My next appearance at the Market will be on August 29th. \nAgain\, I will have my books\, merch\, and info about Belief Code. I will be doing quick\, Emotion Code Sessions for $5. A good opportunity for you to try it and see for yourself what Emotion Code release is like. Likely\, I will be reading my books so bring the kids! \nCome and hang out with me for a bit. Check out Wisconsin’s #3 Farmers Market. You will find produce\, food trucks\, entertainment\, Sourdough bread\, and so much more! \n \nShare this:\n				Print (Opens in new window)\n				Print\n			Like this:Like Loading...
URL:https://abundantlivingwithvicki.com/event/richfield-farmers-market-august/
LOCATION:Richfield Historical Park\, Richfield\, WI\, 53076\, United States
CATEGORIES:Author Event,vendor event
ATTACH;FMTTYPE=image/jpeg:https://abundantlivingwithvicki.com/wp-content/uploads/2026/02/Image-7.jpeg
END:VEVENT
END:VCALENDAR