BEGIN:VCALENDAR
VERSION:2.0
PRODID:-//Abundant Living with Vicki - ECPv6.15.20//NONSGML v1.0//EN
CALSCALE:GREGORIAN
METHOD:PUBLISH
X-ORIGINAL-URL:https://abundantlivingwithvicki.com
X-WR-CALDESC:Events for Abundant Living with Vicki
REFRESH-INTERVAL;VALUE=DURATION:PT1H
X-Robots-Tag:noindex
X-PUBLISHED-TTL:PT1H
BEGIN:VTIMEZONE
TZID:America/Chicago
BEGIN:DAYLIGHT
TZOFFSETFROM:-0600
TZOFFSETTO:-0500
TZNAME:CDT
DTSTART:20230312T080000
END:DAYLIGHT
BEGIN:STANDARD
TZOFFSETFROM:-0500
TZOFFSETTO:-0600
TZNAME:CST
DTSTART:20231105T070000
END:STANDARD
BEGIN:DAYLIGHT
TZOFFSETFROM:-0600
TZOFFSETTO:-0500
TZNAME:CDT
DTSTART:20240310T080000
END:DAYLIGHT
BEGIN:STANDARD
TZOFFSETFROM:-0500
TZOFFSETTO:-0600
TZNAME:CST
DTSTART:20241103T070000
END:STANDARD
BEGIN:DAYLIGHT
TZOFFSETFROM:-0600
TZOFFSETTO:-0500
TZNAME:CDT
DTSTART:20250309T080000
END:DAYLIGHT
BEGIN:STANDARD
TZOFFSETFROM:-0500
TZOFFSETTO:-0600
TZNAME:CST
DTSTART:20251102T070000
END:STANDARD
END:VTIMEZONE
BEGIN:VEVENT
DTSTART;TZID=America/Chicago:20241023T153000
DTEND;TZID=America/Chicago:20241023T163000
DTSTAMP:20260425T064329
CREATED:20240726T213331Z
LAST-MODIFIED:20240726T213331Z
UID:1779-1729697400-1729701000@abundantlivingwithvicki.com
SUMMARY:Sacred U\, Pathways to Wellbeing.
DESCRIPTION:I’m thrilled to share that I’ve been invited as a guest on a podcast in October! I’ll be discussing the topic of Energy Healing and the Bible. It’s interesting to consider that as Bible-believing Christians\, we acknowledge that God created energy\, so why is there a common belief that energy healing is not aligned with God? \nEnergy is present all around us and within us\, and it originated from God. Let’s delve into this topic on the Sacred U\, Pathways to Wellbeing Podcast on October 23rd\, 2024. \nYou can find more information on their website here. \nShare this:\n				Print (Opens in new window)\n				Print\n			Like this:Like Loading...
URL:https://abundantlivingwithvicki.com/event/sacred-u-pathways-to-wellbeing/
LOCATION:podcast
CATEGORIES:Speaking Events
ATTACH;FMTTYPE=image/jpeg:https://abundantlivingwithvicki.com/wp-content/uploads/2024/06/Image-2.jpeg
END:VEVENT
END:VCALENDAR