BEGIN:VCALENDAR
VERSION:2.0
PRODID:-//Abundant Living with Vicki - ECPv6.15.20//NONSGML v1.0//EN
CALSCALE:GREGORIAN
METHOD:PUBLISH
X-WR-CALNAME:Abundant Living with Vicki
X-ORIGINAL-URL:https://abundantlivingwithvicki.com
X-WR-CALDESC:Events for Abundant Living with Vicki
REFRESH-INTERVAL;VALUE=DURATION:PT1H
X-Robots-Tag:noindex
X-PUBLISHED-TTL:PT1H
BEGIN:VTIMEZONE
TZID:America/Chicago
BEGIN:DAYLIGHT
TZOFFSETFROM:-0600
TZOFFSETTO:-0500
TZNAME:CDT
DTSTART:20240310T080000
END:DAYLIGHT
BEGIN:STANDARD
TZOFFSETFROM:-0500
TZOFFSETTO:-0600
TZNAME:CST
DTSTART:20241103T070000
END:STANDARD
BEGIN:DAYLIGHT
TZOFFSETFROM:-0600
TZOFFSETTO:-0500
TZNAME:CDT
DTSTART:20250309T080000
END:DAYLIGHT
BEGIN:STANDARD
TZOFFSETFROM:-0500
TZOFFSETTO:-0600
TZNAME:CST
DTSTART:20251102T070000
END:STANDARD
BEGIN:DAYLIGHT
TZOFFSETFROM:-0600
TZOFFSETTO:-0500
TZNAME:CDT
DTSTART:20260308T080000
END:DAYLIGHT
BEGIN:STANDARD
TZOFFSETFROM:-0500
TZOFFSETTO:-0600
TZNAME:CST
DTSTART:20261101T070000
END:STANDARD
END:VTIMEZONE
BEGIN:VEVENT
DTSTART;TZID=America/Chicago:20250503T100000
DTEND;TZID=America/Chicago:20250503T150000
DTSTAMP:20260424T023253
CREATED:20250429T200419Z
LAST-MODIFIED:20250429T200421Z
UID:1903-1746266400-1746284400@abundantlivingwithvicki.com
SUMMARY:Vendor Event: New Century School Spring Marketplace
DESCRIPTION:I will be here on Saturday\, May 3rd from 10am to 3pm.\nI will have all my books with me at the New Century Spring Marketplace event in Verona\, WI.  \nSaturday\, May 3rd from 10 am to 3 pm. \nITS FREE!!! \nThere will be food\, raffle prizes and lots of fun shopping!! \nMe and my books: Barney Goes to the Horse Show\, Don’t Leave the Coop!\, and \nMillie and the 7 Goats\, will be there. SPECIAL BUNDLE PRICE for that day as well!!! \nCome join me if you are in the area!! \n  \nShare this:\n				Print (Opens in new window)\n				Print\n			Like this:Like Loading...
URL:https://abundantlivingwithvicki.com/event/new-century-school-spring-marketplace/
LOCATION:New Century School\, 400 N Main ST\, Verona\, WI\, 53593\, United States
CATEGORIES:vendor event
ATTACH;FMTTYPE=image/png:https://abundantlivingwithvicki.com/wp-content/uploads/2025/04/1.png
END:VEVENT
END:VCALENDAR