BEGIN:VCALENDAR
VERSION:2.0
PRODID:-//Abundant Living with Vicki - ECPv6.15.20//NONSGML v1.0//EN
CALSCALE:GREGORIAN
METHOD:PUBLISH
X-WR-CALNAME:Abundant Living with Vicki
X-ORIGINAL-URL:https://abundantlivingwithvicki.com
X-WR-CALDESC:Events for Abundant Living with Vicki
REFRESH-INTERVAL;VALUE=DURATION:PT1H
X-Robots-Tag:noindex
X-PUBLISHED-TTL:PT1H
BEGIN:VTIMEZONE
TZID:America/Chicago
BEGIN:DAYLIGHT
TZOFFSETFROM:-0600
TZOFFSETTO:-0500
TZNAME:CDT
DTSTART:20230312T080000
END:DAYLIGHT
BEGIN:STANDARD
TZOFFSETFROM:-0500
TZOFFSETTO:-0600
TZNAME:CST
DTSTART:20231105T070000
END:STANDARD
BEGIN:DAYLIGHT
TZOFFSETFROM:-0600
TZOFFSETTO:-0500
TZNAME:CDT
DTSTART:20240310T080000
END:DAYLIGHT
BEGIN:STANDARD
TZOFFSETFROM:-0500
TZOFFSETTO:-0600
TZNAME:CST
DTSTART:20241103T070000
END:STANDARD
BEGIN:DAYLIGHT
TZOFFSETFROM:-0600
TZOFFSETTO:-0500
TZNAME:CDT
DTSTART:20250309T080000
END:DAYLIGHT
BEGIN:STANDARD
TZOFFSETFROM:-0500
TZOFFSETTO:-0600
TZNAME:CST
DTSTART:20251102T070000
END:STANDARD
END:VTIMEZONE
BEGIN:VEVENT
DTSTART;TZID=America/Chicago:20241207T120000
DTEND;TZID=America/Chicago:20241208T200000
DTSTAMP:20260424T110800
CREATED:20241115T222619Z
LAST-MODIFIED:20241115T222619Z
UID:1839-1733572800-1733688000@abundantlivingwithvicki.com
SUMMARY:Christmas at the Ranch
DESCRIPTION:I will be at Christmas at the Ranch with my books\, “Don’t Leave the Coop!” and “Barney Goes to the Horse Show” on December 7th and 8th. \nThis is a 2-day event with Sleigh Rides\, Photos with Santa\, Activities\, and lots of vendors and food!! \nIt’s gonna be a blast!! \nAND ITS AT A HORSE RANCH IN THE BARNS!!!!! \nI’m kind of excited about that… \nI will have my books\, Young Living Essential Oils\, and info about my business\, Abundant Living with Vicki. I will also be doing Demonstrations of Emotion Code. \nTodd will be there in my place on Saturday\, but I will be there on Sunday to sign books and do the demos. \n  \n  \n  \nShare this:\n				Print (Opens in new window)\n				Print\n			Like this:Like Loading...
URL:https://abundantlivingwithvicki.com/event/christmas-at-the-ranch/
LOCATION:Palamino Pines Ranch\, W727 Mill Road\, Kewauskum\, WI\, 53040\, United States
CATEGORIES:Author Event
ATTACH;FMTTYPE=image/jpeg:https://abundantlivingwithvicki.com/wp-content/uploads/2024/11/Image-12.jpeg
END:VEVENT
END:VCALENDAR