BEGIN:VCALENDAR
VERSION:2.0
PRODID:-//Abundant Living with Vicki - ECPv6.15.20//NONSGML v1.0//EN
CALSCALE:GREGORIAN
METHOD:PUBLISH
X-ORIGINAL-URL:https://abundantlivingwithvicki.com
X-WR-CALDESC:Events for Abundant Living with Vicki
REFRESH-INTERVAL;VALUE=DURATION:PT1H
X-Robots-Tag:noindex
X-PUBLISHED-TTL:PT1H
BEGIN:VTIMEZONE
TZID:America/Chicago
BEGIN:DAYLIGHT
TZOFFSETFROM:-0600
TZOFFSETTO:-0500
TZNAME:CDT
DTSTART:20240310T080000
END:DAYLIGHT
BEGIN:STANDARD
TZOFFSETFROM:-0500
TZOFFSETTO:-0600
TZNAME:CST
DTSTART:20241103T070000
END:STANDARD
BEGIN:DAYLIGHT
TZOFFSETFROM:-0600
TZOFFSETTO:-0500
TZNAME:CDT
DTSTART:20250309T080000
END:DAYLIGHT
BEGIN:STANDARD
TZOFFSETFROM:-0500
TZOFFSETTO:-0600
TZNAME:CST
DTSTART:20251102T070000
END:STANDARD
BEGIN:DAYLIGHT
TZOFFSETFROM:-0600
TZOFFSETTO:-0500
TZNAME:CDT
DTSTART:20260308T080000
END:DAYLIGHT
BEGIN:STANDARD
TZOFFSETFROM:-0500
TZOFFSETTO:-0600
TZNAME:CST
DTSTART:20261101T070000
END:STANDARD
END:VTIMEZONE
BEGIN:VEVENT
DTSTART;TZID=America/Chicago:20250722T093000
DTEND;TZID=America/Chicago:20250722T103000
DTSTAMP:20260424T085653
CREATED:20250630T222341Z
LAST-MODIFIED:20250630T222343Z
UID:1997-1753176600-1753180200@abundantlivingwithvicki.com
SUMMARY:Come Read with Me At Chik Fil A!
DESCRIPTION:Join me on July 22nd at Chik Fil A in Menomonee Falls\, WI\, where I will be joining their monthly Storytime! \nOnce a month\, they have a storytime event with a story or 2\, a craft\, song and a snack!! \nThe best part?? \nITS FREE!!!! \nSo come on over to Chik Fil A in Menomonee Falls\, WI\, just off Highway Q\, 9:30 am til 10:30 am. \nI will be reading my books\, “Millie and the 7 Goats” and “Don’t Leave the Coop!” \n \nShare this:\n				Print (Opens in new window)\n				Print\n			Like this:Like Loading...
URL:https://abundantlivingwithvicki.com/event/come-read-with-me-at-chik-fil-a/
LOCATION:Chik Fil A\, Menomonee Falls\, WI\, 53051
CATEGORIES:Author Event
ATTACH;FMTTYPE=image/png:https://abundantlivingwithvicki.com/wp-content/uploads/2025/06/read-with-me.png
END:VEVENT
END:VCALENDAR