BEGIN:VCALENDAR
VERSION:2.0
PRODID:-//Abundant Living with Vicki - ECPv6.15.20//NONSGML v1.0//EN
CALSCALE:GREGORIAN
METHOD:PUBLISH
X-WR-CALNAME:Abundant Living with Vicki
X-ORIGINAL-URL:https://abundantlivingwithvicki.com
X-WR-CALDESC:Events for Abundant Living with Vicki
REFRESH-INTERVAL;VALUE=DURATION:PT1H
X-Robots-Tag:noindex
X-PUBLISHED-TTL:PT1H
BEGIN:VTIMEZONE
TZID:America/Chicago
BEGIN:DAYLIGHT
TZOFFSETFROM:-0600
TZOFFSETTO:-0500
TZNAME:CDT
DTSTART:20230312T080000
END:DAYLIGHT
BEGIN:STANDARD
TZOFFSETFROM:-0500
TZOFFSETTO:-0600
TZNAME:CST
DTSTART:20231105T070000
END:STANDARD
BEGIN:DAYLIGHT
TZOFFSETFROM:-0600
TZOFFSETTO:-0500
TZNAME:CDT
DTSTART:20240310T080000
END:DAYLIGHT
BEGIN:STANDARD
TZOFFSETFROM:-0500
TZOFFSETTO:-0600
TZNAME:CST
DTSTART:20241103T070000
END:STANDARD
BEGIN:DAYLIGHT
TZOFFSETFROM:-0600
TZOFFSETTO:-0500
TZNAME:CDT
DTSTART:20250309T080000
END:DAYLIGHT
BEGIN:STANDARD
TZOFFSETFROM:-0500
TZOFFSETTO:-0600
TZNAME:CST
DTSTART:20251102T070000
END:STANDARD
END:VTIMEZONE
BEGIN:VEVENT
DTSTART;TZID=America/Chicago:20240420T143000
DTEND;TZID=America/Chicago:20240420T163000
DTSTAMP:20260425T081902
CREATED:20240321T164913Z
LAST-MODIFIED:20240321T164913Z
UID:1707-1713623400-1713630600@abundantlivingwithvicki.com
SUMMARY:Pop Up Author Event
DESCRIPTION:I will be at this Pop Up Author Event in Milwaukee on April 20th\, along with several other authors sharing their expertise and books. \nIts gonna be a blast!! \nCome check out some great books and have a coffee while you are there. This event is held at a coffee shop. \n  \n  \nShare this:\n				Print (Opens in new window)\n				Print\n			Like this:Like Loading...
URL:https://abundantlivingwithvicki.com/event/pop-up-author-event/
LOCATION:BizStarts Community Market\, 161 1st St.\, Milwaukee\, WI\, 53204\, United States
CATEGORIES:Author Event
ATTACH;FMTTYPE=image/jpeg:https://abundantlivingwithvicki.com/wp-content/uploads/2023/11/12116cad-08be-4906-89fb-88d7c1550f71_original-2-1.jpg
END:VEVENT
END:VCALENDAR