BEGIN:VCALENDAR
VERSION:2.0
PRODID:-//Abundant Living with Vicki - ECPv6.15.20//NONSGML v1.0//EN
CALSCALE:GREGORIAN
METHOD:PUBLISH
X-WR-CALNAME:Abundant Living with Vicki
X-ORIGINAL-URL:https://abundantlivingwithvicki.com
X-WR-CALDESC:Events for Abundant Living with Vicki
REFRESH-INTERVAL;VALUE=DURATION:PT1H
X-Robots-Tag:noindex
X-PUBLISHED-TTL:PT1H
BEGIN:VTIMEZONE
TZID:America/Chicago
BEGIN:DAYLIGHT
TZOFFSETFROM:-0600
TZOFFSETTO:-0500
TZNAME:CDT
DTSTART:20240310T080000
END:DAYLIGHT
BEGIN:STANDARD
TZOFFSETFROM:-0500
TZOFFSETTO:-0600
TZNAME:CST
DTSTART:20241103T070000
END:STANDARD
BEGIN:DAYLIGHT
TZOFFSETFROM:-0600
TZOFFSETTO:-0500
TZNAME:CDT
DTSTART:20250309T080000
END:DAYLIGHT
BEGIN:STANDARD
TZOFFSETFROM:-0500
TZOFFSETTO:-0600
TZNAME:CST
DTSTART:20251102T070000
END:STANDARD
BEGIN:DAYLIGHT
TZOFFSETFROM:-0600
TZOFFSETTO:-0500
TZNAME:CDT
DTSTART:20260308T080000
END:DAYLIGHT
BEGIN:STANDARD
TZOFFSETFROM:-0500
TZOFFSETTO:-0600
TZNAME:CST
DTSTART:20261101T070000
END:STANDARD
BEGIN:DAYLIGHT
TZOFFSETFROM:-0600
TZOFFSETTO:-0500
TZNAME:CDT
DTSTART:20270314T080000
END:DAYLIGHT
BEGIN:STANDARD
TZOFFSETFROM:-0500
TZOFFSETTO:-0600
TZNAME:CST
DTSTART:20271107T070000
END:STANDARD
END:VTIMEZONE
BEGIN:VEVENT
DTSTART;TZID=America/Chicago:20250809T100000
DTEND;TZID=America/Chicago:20250809T140000
DTSTAMP:20260423T184258
CREATED:20250701T010245Z
LAST-MODIFIED:20250701T010247Z
UID:2007-1754733600-1754748000@abundantlivingwithvicki.com
SUMMARY:Reading at the Farmer's Market
DESCRIPTION:I am so happy to get to go back to read at the Farmer’s Market 3 more times yet this summer!! \nIt was so much fun to chat with old friends\, make some new ones\, and read my books to an audience. \nJoin me in August on the 9th or the 30th. Or in September on the 6th. \nThere are so many great vendors! Sourdough. Coffee. Of course LOTS of produce vendors. A couple of people who made canned goods that are SO DELICIOUS!!!!  If you want the sourdough though\, you had better get there early. She does sell out. This past time we got some of her scones. YUM! \nThey do have themed days\, which is fun. On the 9th\, they are having a Petting Zoo.  The 30th\, the Enchanted Forest. The 6th is a Book Club day. \nCheck out their website for more info and the calendar of events. http://RichfieldFarmersMarket.org\n \nI will be reading at the Farmer’s Market\, on their stage or in my vendor booth. Come on out and say Hi!! \n \nShare this:\n				Print (Opens in new window)\n				Print\n			Like this:Like Loading...
URL:https://abundantlivingwithvicki.com/event/reading-at-the-farmers-market/
LOCATION:Richfield Historical Park\, Richfield\, WI\, 53076\, United States
CATEGORIES:Author Event
ATTACH;FMTTYPE=image/png:https://abundantlivingwithvicki.com/wp-content/uploads/2025/06/RFMRead.png
END:VEVENT
BEGIN:VEVENT
DTSTART;TZID=America/Chicago:20250809T100000
DTEND;TZID=America/Chicago:20250809T140000
DTSTAMP:20260423T184258
CREATED:20250802T193218Z
LAST-MODIFIED:20250802T193218Z
UID:2036-1754733600-1754748000@abundantlivingwithvicki.com
SUMMARY:Richfield Farmer's Market
DESCRIPTION:I will be at the Richfield Farmer’s Market on August 9th from 10 am until 2 pm. \nThere are lots of amazing vendors at this event with a variety of offerings. Fruits and vegetables. Sourdough bread. Crafts. Coffee. \nAnd of course\, FUN!!!! \nThat days theme is “Petting Zoo!!”  Bring the kids out and meet some animals! \nI will not have any of mine there\, but there will be lots of others!! \nIn my booth\, you will find my books and FREE stickers and coloring sheets for the kids. Signed copies of my books will also be available at the NEW PRICE!! \nMillie and the 7 Goats- purchased from me at $10 \nDon’t Leave the Coop! purchased from me at $12 \nI will be at the Richfield Farmers Market\nCome join me at the Richfield Farmers Market at Richfield Historical Park on August 9th!! \nFor more information click here. \nShare this:\n				Print (Opens in new window)\n				Print\n			Like this:Like Loading...
URL:https://abundantlivingwithvicki.com/event/richfield-farmers-market/
LOCATION:Richfield Historical Park\, Richfield\, WI\, 53076\, United States
CATEGORIES:Author Event
END:VEVENT
BEGIN:VEVENT
DTSTART;TZID=America/Chicago:20250809T193000
DTEND;TZID=America/Chicago:20250809T213000
DTSTAMP:20260423T184258
CREATED:20250802T201311Z
LAST-MODIFIED:20250802T201311Z
UID:2040-1754767800-1754775000@abundantlivingwithvicki.com
SUMMARY:Read at Royal Roost
DESCRIPTION:Royal Roost is having 2 movie Nights!! \nFrom Royal Roost Event Page: \nIt’s my trivia question before every Critter Yoga and our family favorite movie! Bring your own chairs and set up around the big screen which will be over by the goats area. The chickens\, turkeys\, geese will be out along with of course our Border Collies Fly\, Rex\, Reed and the puppy\, Snow. Author Vicki Reinke with Abundant Living Publications will be here to Read her books before the movie starts at 8:30. Free popcorn and loads of giggles are included. We will be offering parking next door at KK WOODS . \nThe first time is August 9th starting at 7:30 pm. \nThe next one is August 13th starting at the same time. \nI hope to see you at the Royal Roost Movie Night!! \n  \nThis was my first time reading to the goats at Royal Roost in Pewaukee\, W\nSign up is REQUIRED. Click here to sign up.  \nShare this:\n				Print (Opens in new window)\n				Print\n			Like this:Like Loading...
URL:https://abundantlivingwithvicki.com/event/read-at-royal-roost/
LOCATION:The Royal Roost\, N15W24892 Bluemound Road\, Pewaukee\, 53072\, United States
CATEGORIES:Author Event
ATTACH;FMTTYPE=image/heic:https://abundantlivingwithvicki.com/wp-content/uploads/2025/07/IMG_20250524_171514.heic
END:VEVENT
BEGIN:VEVENT
DTSTART;TZID=America/Chicago:20250830T100000
DTEND;TZID=America/Chicago:20250830T140000
DTSTAMP:20260423T184258
CREATED:20250802T195341Z
LAST-MODIFIED:20250802T195341Z
UID:2038-1756548000-1756562400@abundantlivingwithvicki.com
SUMMARY:Richfield Farmers Market: Enchanted Forest
DESCRIPTION:On August 30th I will be again at the Richfield Farmers Market for their Enchanted Forest themed day. \nI was there last year for this event\, and it was SO MUCH FUN!!! \nKids were there dressed in costumes. We got to stamp a sheet for them to get a prize. \nI met so many great people!!! \nThis year I will be there again for the fun!!  I will have my books there and will be giving out FREE stickers and coloring sheets. \nIf you would like to have signed copies of my books\, this will be a great opportunity for you to pick up some. Or BRING YOURS and I can sign it for you!! \nRichfield Farmers Market\, August 30th at the Richfield Historical Park from 10 am til 2 pm. \nClick here for more information: Richfield Farmers Market \n2 of my books\nShare this:\n				Print (Opens in new window)\n				Print\n			Like this:Like Loading...
URL:https://abundantlivingwithvicki.com/event/richfield-farmers-market-enchanted-forest/
LOCATION:Richfield Historical Park\, Richfield\, WI\, 53076\, United States
CATEGORIES:Author Event
ATTACH;FMTTYPE=image/jpeg:https://abundantlivingwithvicki.com/wp-content/uploads/2025/06/untitled-80-scaled.jpg
END:VEVENT
BEGIN:VEVENT
DTSTART;TZID=America/Chicago:20260412T100000
DTEND;TZID=America/Chicago:20260412T140000
DTSTAMP:20260423T184258
CREATED:20260220T161035Z
LAST-MODIFIED:20260220T161035Z
UID:2120-1775988000-1776002400@abundantlivingwithvicki.com
SUMMARY:Terrace 167 Spring Craftacular
DESCRIPTION:I will be here with my books and some info about Belief Code. Come join me!! \nIts gonna be a blast!!  This is a beatiful venue in Richfield\, just down the street from me. \n  \n“Terrace 167 is excited to announce our Spring Craftacular! \nFilled with unique\, artsy\, whimsical crafters ready for you to explore new artists and products. This event offers FREE admission and is perfect for a stress free Sunday shopping extravaganza. An awesome event to look forward to\, just in time for Wisconsin to thaw from this deep winter. \nJoin us to find one of a kind gifts along with treating yourself while sipping your drink of choice. Let’s shop!” \nShare this:\n				Print (Opens in new window)\n				Print\n			Like this:Like Loading...
URL:https://abundantlivingwithvicki.com/event/terrace-167-spring-craftacular/
LOCATION:Terrace 167\, 3210 State Road 167\, Richfield\, WI\, 53076\, United States
CATEGORIES:Author Event,vendor event
ATTACH;FMTTYPE=image/jpeg:https://abundantlivingwithvicki.com/wp-content/uploads/2026/02/Image-5.jpeg
END:VEVENT
BEGIN:VEVENT
DTSTART;TZID=America/Chicago:20260530T100000
DTEND;TZID=America/Chicago:20260530T130000
DTSTAMP:20260423T184258
CREATED:20260220T162802Z
LAST-MODIFIED:20260220T162802Z
UID:2124-1780135200-1780146000@abundantlivingwithvicki.com
SUMMARY:Richfield Farmers Markets
DESCRIPTION:I will again be participating in Richfield Farmers Markets this summer. I am so excited!! \nThis is the CUTEST Market!! (I might be a little biased…) This one is also in my neighborhood at the Richfield Historical Park. \nLots of great vendors. They were voted THIRD Best Market in Wisconsin last year!! In only their SECOND year as an official Market!!! \nCome 0n out and say HI!! \nI will have my books\, some merch and some info about Belief Code. I will also be doing some quick 5 min Emotion Code sessions for just $5. \n  \n  \nShare this:\n				Print (Opens in new window)\n				Print\n			Like this:Like Loading...
URL:https://abundantlivingwithvicki.com/event/richfield-farmers-markets/
LOCATION:Richfield Historical Park\, Richfield\, WI\, 53076\, United States
CATEGORIES:Author Event,vendor event
ATTACH;FMTTYPE=image/jpeg:https://abundantlivingwithvicki.com/wp-content/uploads/2026/02/Image-7.jpeg
END:VEVENT
BEGIN:VEVENT
DTSTART;TZID=America/Chicago:20260627T100000
DTEND;TZID=America/Chicago:20260627T130000
DTSTAMP:20260423T184258
CREATED:20260220T221831Z
LAST-MODIFIED:20260220T222102Z
UID:2129-1782554400-1782565200@abundantlivingwithvicki.com
SUMMARY:Richfield Farmers Market: June
DESCRIPTION:My second time at the Market will be June 27th. Again\, I will have my books and info about Belief Code. \nLikely\, I will be reading my books there too. \nCome hang out with me!!  I would love to see you! \nThis is a great market and last year voted #3 in Farmers Markets in Wisconsin!!! \nThere are the usual produce stands\, LOTS OF GREAT produce!!! YUMMMMM!!! \nSourdough products\, sweet treats\, food trucks\, music and entertainment\, and so much more! \n \nShare this:\n				Print (Opens in new window)\n				Print\n			Like this:Like Loading...
URL:https://abundantlivingwithvicki.com/event/richfield-farmers-market-june/
LOCATION:Richfield Historical Park\, Richfield\, WI\, 53076\, United States
CATEGORIES:Author Event,vendor event
ATTACH;FMTTYPE=image/jpeg:https://abundantlivingwithvicki.com/wp-content/uploads/2026/02/Image-7.jpeg
END:VEVENT
BEGIN:VEVENT
DTSTART;TZID=America/Chicago:20260829T100000
DTEND;TZID=America/Chicago:20260829T130000
DTSTAMP:20260423T184258
CREATED:20260220T223042Z
LAST-MODIFIED:20260220T223042Z
UID:2131-1787997600-1788008400@abundantlivingwithvicki.com
SUMMARY:Richfield Farmers Market: August
DESCRIPTION:My next appearance at the Market will be on August 29th. \nAgain\, I will have my books\, merch\, and info about Belief Code. I will be doing quick\, Emotion Code Sessions for $5. A good opportunity for you to try it and see for yourself what Emotion Code release is like. Likely\, I will be reading my books so bring the kids! \nCome and hang out with me for a bit. Check out Wisconsin’s #3 Farmers Market. You will find produce\, food trucks\, entertainment\, Sourdough bread\, and so much more! \n \nShare this:\n				Print (Opens in new window)\n				Print\n			Like this:Like Loading...
URL:https://abundantlivingwithvicki.com/event/richfield-farmers-market-august/
LOCATION:Richfield Historical Park\, Richfield\, WI\, 53076\, United States
CATEGORIES:Author Event,vendor event
ATTACH;FMTTYPE=image/jpeg:https://abundantlivingwithvicki.com/wp-content/uploads/2026/02/Image-7.jpeg
END:VEVENT
BEGIN:VEVENT
DTSTART;TZID=America/Chicago:20260912T080000
DTEND;TZID=America/Chicago:20260912T170000
DTSTAMP:20260423T184258
CREATED:20260220T224211Z
LAST-MODIFIED:20260220T224211Z
UID:2133-1789200000-1789232400@abundantlivingwithvicki.com
SUMMARY:Richfield Farmers Market: September
DESCRIPTION:This one is gonna be FUN!!! Its a night time market\, starting at 3pm\, with a “Dinner and a Movie”! \nWe will have all the vendors AND Food Trucks AND an OUTDOOR MOVIE!!! \n(Movie has not been announced yet.) \nI will be there with my books\, merch\, and info about Belief Code. \nCome hang out with us!!  \nLast year’s movie at the Market.\nShare this:\n				Print (Opens in new window)\n				Print\n			Like this:Like Loading...
URL:https://abundantlivingwithvicki.com/event/richfield-farmers-market-september/
LOCATION:Richfield Historical Park\, Richfield\, WI\, 53076\, United States
CATEGORIES:Author Event,vendor event
ATTACH;FMTTYPE=image/jpeg:https://abundantlivingwithvicki.com/wp-content/uploads/2026/02/Image-7.jpeg
END:VEVENT
BEGIN:VEVENT
DTSTART;TZID=America/Chicago:20260926T100000
DTEND;TZID=America/Chicago:20260926T160000
DTSTAMP:20260423T184258
CREATED:20260220T230448Z
LAST-MODIFIED:20260220T230448Z
UID:2136-1790416800-1790438400@abundantlivingwithvicki.com
SUMMARY:Maker's Market by Paws & Affect
DESCRIPTION:This one is a new one for me. Paws & Affect is hosting this one at Stonebank School in Hartland\, WI. \nIt’s an event to support “Alberts Dog Lounge” a dog fostering organization based in Whitewater\, WI. They specialize in Seniors\, Special Needs\, and Hospice care for dogs. As a life-long dog mom\, I am excited to be a part of this event! \nI will be there with my books and merch. My focus will be on my books\, but I will have info about Belief Code as well. \nBe sure to click on my links to check out Albert’s Dog Lounge and Paws & Affect. Read the story of how Albert’s Dog Lounge came about and find out about Paws & Affect’s mission to support animal shelters in Wisconsin. \nI look forward to seeing you there! \n \nHosted by Paws & Affect\nShare this:\n				Print (Opens in new window)\n				Print\n			Like this:Like Loading...
URL:https://abundantlivingwithvicki.com/event/makers-market-by-paws-affect/
LOCATION:Stone Bank School\, N68W33866 County Trunk Hwy K\, Oconomowoc\, WI\, 53066\, United States
CATEGORIES:Author Event,vendor event
ATTACH;FMTTYPE=image/jpeg:https://abundantlivingwithvicki.com/wp-content/uploads/2026/02/Image-12.jpeg
END:VEVENT
BEGIN:VEVENT
DTSTART;VALUE=DATE:20261022
DTEND;VALUE=DATE:20261027
DTSTAMP:20260423T184258
CREATED:20260316T235914Z
LAST-MODIFIED:20260316T235914Z
UID:2143-1792627200-1793059199@abundantlivingwithvicki.com
SUMMARY:Ignite Destiny Retreat
DESCRIPTION:I am so excited to announce that I will be a practitioner at the Ignite Destiny Retreat in Destin\, Florida!! \nThere is a list of practitioners/facilitators that will be attending this event as well. Space is limited. \nMore information will come as the facilitators confirm their spaces. \nI am looking forward to this because it is right on the OCEAN!!! \nAnd\, I will get to meet so many amazing facilitators and guests. It will be a great time of rest and restoration! \nAre you on the border of burnout??!! \nCome hang out on the beach. \nWatch the sunsets or sunrises. \nGet grounded on the beach and listen to the waves. \nThis will be the place for you! \nTake advantage of the many facilitators available. \nRest and rejuvenate your soul! \n\n \nShare this:\n				Print (Opens in new window)\n				Print\n			Like this:Like Loading...
URL:https://abundantlivingwithvicki.com/event/ignite-destiny-retreat/
CATEGORIES:Retreat
ATTACH;FMTTYPE=image/jpeg:https://abundantlivingwithvicki.com/wp-content/uploads/2026/03/Image-14.jpeg
END:VEVENT
END:VCALENDAR