BEGIN:VCALENDAR
VERSION:2.0
PRODID:-//Abundant Living with Vicki - ECPv6.15.20//NONSGML v1.0//EN
CALSCALE:GREGORIAN
METHOD:PUBLISH
X-WR-CALNAME:Abundant Living with Vicki
X-ORIGINAL-URL:https://abundantlivingwithvicki.com
X-WR-CALDESC:Events for Abundant Living with Vicki
REFRESH-INTERVAL;VALUE=DURATION:PT1H
X-Robots-Tag:noindex
X-PUBLISHED-TTL:PT1H
BEGIN:VTIMEZONE
TZID:America/Chicago
BEGIN:DAYLIGHT
TZOFFSETFROM:-0600
TZOFFSETTO:-0500
TZNAME:CDT
DTSTART:20230312T080000
END:DAYLIGHT
BEGIN:STANDARD
TZOFFSETFROM:-0500
TZOFFSETTO:-0600
TZNAME:CST
DTSTART:20231105T070000
END:STANDARD
BEGIN:DAYLIGHT
TZOFFSETFROM:-0600
TZOFFSETTO:-0500
TZNAME:CDT
DTSTART:20240310T080000
END:DAYLIGHT
BEGIN:STANDARD
TZOFFSETFROM:-0500
TZOFFSETTO:-0600
TZNAME:CST
DTSTART:20241103T070000
END:STANDARD
BEGIN:DAYLIGHT
TZOFFSETFROM:-0600
TZOFFSETTO:-0500
TZNAME:CDT
DTSTART:20250309T080000
END:DAYLIGHT
BEGIN:STANDARD
TZOFFSETFROM:-0500
TZOFFSETTO:-0600
TZNAME:CST
DTSTART:20251102T070000
END:STANDARD
END:VTIMEZONE
BEGIN:VEVENT
DTSTART;TZID=America/Chicago:20241023T153000
DTEND;TZID=America/Chicago:20241023T163000
DTSTAMP:20260423T110221
CREATED:20240726T213331Z
LAST-MODIFIED:20240726T213331Z
UID:1779-1729697400-1729701000@abundantlivingwithvicki.com
SUMMARY:Sacred U\, Pathways to Wellbeing.
DESCRIPTION:I’m thrilled to share that I’ve been invited as a guest on a podcast in October! I’ll be discussing the topic of Energy Healing and the Bible. It’s interesting to consider that as Bible-believing Christians\, we acknowledge that God created energy\, so why is there a common belief that energy healing is not aligned with God? \nEnergy is present all around us and within us\, and it originated from God. Let’s delve into this topic on the Sacred U\, Pathways to Wellbeing Podcast on October 23rd\, 2024. \nYou can find more information on their website here. \nShare this:\n				Print (Opens in new window)\n				Print\n			Like this:Like Loading...
URL:https://abundantlivingwithvicki.com/event/sacred-u-pathways-to-wellbeing/
LOCATION:podcast
CATEGORIES:Speaking Events
ATTACH;FMTTYPE=image/jpeg:https://abundantlivingwithvicki.com/wp-content/uploads/2024/06/Image-2.jpeg
END:VEVENT
BEGIN:VEVENT
DTSTART;TZID=America/Chicago:20240812T120000
DTEND;TZID=America/Chicago:20240812T140000
DTSTAMP:20260423T110221
CREATED:20240726T202038Z
LAST-MODIFIED:20240726T202038Z
UID:1774-1723464000-1723471200@abundantlivingwithvicki.com
SUMMARY:Coffee Talk- LUNCH!!
DESCRIPTION:Come on over and let’s do a Coffee Talk lunch together. We will make some salads in a jar to take home and make a nice salad for lunch. We will chat about Body Code\, Belief Code\, AO scans\, Juice Plus\, Young Living Essential Oils\, or just about living the abundant life!!!I will post a list of salad ingredients and tell me which 2 ingredients you will bring. That will be your RSVP. BRING 3 wide-mouth canning jars with lids and your salad ingredients. By the time you leave\, you will have:3 jarred salads. A Body Code Demo with notes. \nAn EZ scan in your email. \nA sample of Juice Plus gummies. \nAND-BONUS: A chance to win a bottle of Lavender Young Living Essential oil!! \nLOOKING FORWARD TO LUNCH WITH YOU!!!!Bring a friend and lets make it a party!!! \n\nCome on over and let’s chat!!\n\nShare this:\n				Print (Opens in new window)\n				Print\n			Like this:Like Loading...
URL:https://abundantlivingwithvicki.com/event/coffee-talk-lunch/
CATEGORIES:Coffee Talk
ATTACH;FMTTYPE=image/png:https://abundantlivingwithvicki.com/wp-content/uploads/2024/07/Coffee-Talk-lunchFacebook-Post.png
ORGANIZER;CN="Vicki Reinke":MAILTO:vrein11@gmail.com
END:VEVENT
BEGIN:VEVENT
DTSTART;TZID=America/Chicago:20240717T170000
DTEND;TZID=America/Chicago:20240717T183000
DTSTAMP:20260423T110221
CREATED:20240708T173645Z
LAST-MODIFIED:20240708T173648Z
UID:1766-1721235600-1721241000@abundantlivingwithvicki.com
SUMMARY:Coffee Talk With Abundant Living with Vicki
DESCRIPTION:Coffee Talk for July! Coming up on the 17th of this month at 5pm. I hope to see you!!\nHave some questions about what I am doing? \nWant to know more about AO Scan technology? Body Code? Belief Code? \nWe can also talk about Juice Plus or Young Living Essential oils\, if you like. \nCome with your questions! Bring your friend. \nLet’s chat about it all. \nI will serve some tea\, water\, lemonade\, and light snacks. \nI look forward to talking with you!! \nclick here to sign up. \nOR \nMessage me via the form below. \n\n← Back Thank you for your response. ✨\n\n\n					\n						\n							\n							\n						\n						\n						\n						\n						\n							\n								\n									\n										\n										\n									\n									\n										\n										\n									\n								\n							\n						\n						\n							\n								\n									\n									\n										\n									\n									\n									\n								\n							\n						\n					\n				\n\n\n\nName(required)\n\n \n			\n				\n					\n						\n						\n						\n					\n				\n				\n			 \n	\n\n\nEmail(required)\n\n \n			\n				\n					\n						\n						\n						\n					\n				\n				\n			 \n	\n\n\nWebsite\n\n \n			\n				\n					\n						\n						\n						\n					\n				\n				\n			 \n	\n\n\nMessage\n\n \n			\n				\n					\n						\n						\n						\n					\n				\n				\n			\n	\n	\n\n				\n					\n				\n						Submit		\n		\n		\n	 \nΔ \n\nShare this:\n				Print (Opens in new window)\n				Print\n			Like this:Like Loading...
URL:https://abundantlivingwithvicki.com/event/coffee-talk-with-abundant-living-with-vicki-2/
LOCATION:My Home\, 2420 State Road\, Richfield\, WI\, 53076\, United States
CATEGORIES:Speaking Events
ATTACH;FMTTYPE=image/png:https://abundantlivingwithvicki.com/wp-content/uploads/2024/07/CT-July-1920-x-1080-px.png
END:VEVENT
BEGIN:VEVENT
DTSTART;TZID=America/Chicago:20240413T090000
DTEND;TZID=America/Chicago:20240413T140000
DTSTAMP:20260423T110221
CREATED:20240321T155452Z
LAST-MODIFIED:20240321T155452Z
UID:1663-1712998800-1713016800@abundantlivingwithvicki.com
SUMMARY:Family Health and Wellness Event
DESCRIPTION:We are excited to invite you to our Family Health and Wellness Event. Over 15 vendors waiting to see what they can do for you!! \nThere will be samples to try and chair massages to sign up for. \nAlso\, Talk to me for a demo of Body Code! I will have information about the AO scanner available. \nCome learn new things with us!! \nSimple Contact FormPlease enable JavaScript in your browser to complete this form.Name *FirstLastEmail *Comment or Message *Submit  \nShare this:\n				Print (Opens in new window)\n				Print\n			Like this:Like Loading...
URL:https://abundantlivingwithvicki.com/event/family-health-and-wellness-event/
LOCATION:301 Furnace St\, Mayville\, WI 53050\, 301 Furnace St\, Mayville\, WI\, 53050\, United States
CATEGORIES:Speaking Events
ATTACH;FMTTYPE=image/jpeg:https://abundantlivingwithvicki.com/wp-content/uploads/2024/03/Image-60.jpeg
END:VEVENT
BEGIN:VEVENT
DTSTART;TZID=America/Chicago:20240310T100000
DTEND;TZID=America/Chicago:20240310T113000
DTSTAMP:20260423T110221
CREATED:20240306T223417Z
LAST-MODIFIED:20240306T223601Z
UID:1609-1710064800-1710070200@abundantlivingwithvicki.com
SUMMARY:Coffee Talk with Abundant Living with Vicki
DESCRIPTION:Curious about Body Code\, Belief Code and AO scanner?? \nBring your questions to my house on Saturday\, March 10th. I will put on the coffee\, or tea or even water if you like\, put out some yummy treats\, and let’s chat about it all!! \nBring your friends and curious neighbors. Bring your Aunt Sue if you like!! \nI will do a little talk and maybe even a demo! \n  \n  \n\n← Back Thank you for your response. ✨\n\n\n					\n						\n							\n							\n						\n						\n						\n						\n						\n							\n								\n									\n										\n										\n									\n									\n										\n										\n									\n								\n							\n						\n						\n							\n								\n									\n									\n										\n									\n									\n									\n								\n							\n						\n					\n				\n\n\n\nName(required)\n\n \n			\n				\n					\n						\n						\n						\n					\n				\n				\n			 \n	\n\n\nEmail(required)\n\n \n			\n				\n					\n						\n						\n						\n					\n				\n				\n			 \n	\n\n\nWebsite\n\n \n			\n				\n					\n						\n						\n						\n					\n				\n				\n			 \n	\n\n\nMessage\n\n \n			\n				\n					\n						\n						\n						\n					\n				\n				\n			\n	\n	\n\n				\n					\n				\n						Submit		\n		\n		\n	 \nΔ \n\n  \nShare this:\n				Print (Opens in new window)\n				Print\n			Like this:Like Loading...
URL:https://abundantlivingwithvicki.com/event/coffee-talk-with-abundant-living-with-vicki/
LOCATION:My Home\, 2420 State Road\, Richfield\, WI\, 53076\, United States
CATEGORIES:Speaking Events
ATTACH;FMTTYPE=image/png:https://abundantlivingwithvicki.com/wp-content/uploads/2024/03/Coffee-Talk-Facebook-Post.png
ORGANIZER;CN="Vicki Reinke":MAILTO:vrein11@gmail.com
END:VEVENT
END:VCALENDAR