BEGIN:VCALENDAR
VERSION:2.0
PRODID:-//Abundant Living with Vicki - ECPv6.15.20//NONSGML v1.0//EN
CALSCALE:GREGORIAN
METHOD:PUBLISH
X-ORIGINAL-URL:https://abundantlivingwithvicki.com
X-WR-CALDESC:Events for Abundant Living with Vicki
REFRESH-INTERVAL;VALUE=DURATION:PT1H
X-Robots-Tag:noindex
X-PUBLISHED-TTL:PT1H
BEGIN:VTIMEZONE
TZID:America/Chicago
BEGIN:DAYLIGHT
TZOFFSETFROM:-0600
TZOFFSETTO:-0500
TZNAME:CDT
DTSTART:20240310T080000
END:DAYLIGHT
BEGIN:STANDARD
TZOFFSETFROM:-0500
TZOFFSETTO:-0600
TZNAME:CST
DTSTART:20241103T070000
END:STANDARD
BEGIN:DAYLIGHT
TZOFFSETFROM:-0600
TZOFFSETTO:-0500
TZNAME:CDT
DTSTART:20250309T080000
END:DAYLIGHT
BEGIN:STANDARD
TZOFFSETFROM:-0500
TZOFFSETTO:-0600
TZNAME:CST
DTSTART:20251102T070000
END:STANDARD
BEGIN:DAYLIGHT
TZOFFSETFROM:-0600
TZOFFSETTO:-0500
TZNAME:CDT
DTSTART:20260308T080000
END:DAYLIGHT
BEGIN:STANDARD
TZOFFSETFROM:-0500
TZOFFSETTO:-0600
TZNAME:CST
DTSTART:20261101T070000
END:STANDARD
END:VTIMEZONE
BEGIN:VEVENT
DTSTART;TZID=America/Chicago:20250525T130000
DTEND;TZID=America/Chicago:20250525T150000
DTSTAMP:20260424T033824
CREATED:20250429T203341Z
LAST-MODIFIED:20250429T203343Z
UID:1911-1748178000-1748185200@abundantlivingwithvicki.com
SUMMARY:Reading My Books at the Royal Roost!!
DESCRIPTION:This one\, I am REALLY excited about!! I have followed the Royal Roost on Facebook for years!!  I am going to get to read my books at the ROYAL ROOST!!! \nThis lady is amazing to me… She has people all over the area raising chickens because she RENTS OUT COOPS AND CHICKENS for people to try it for themselves!!!  And I couldn’t love this concept more.. \nI will be there on Sunday\, May 25th\, (my BIRTHDAY!!!) at 1 pm reading my books. \nShe hosts lots of fun events at her place like Critter Yoga!! \nand this one: National Drinking with Chickens Day!!! \n(WAAHHHAATT!!!!! its apparently a thing… who knew??) \nI will be “Reading with the Goats” that day!!!  YAY!!!!  sign up here if you would like to join me there! Scroll all the way to the bottom for my event. Apparently I need to get her my information yet… \nOops.. \n  \nShare this:\n				Print (Opens in new window)\n				Print\n			Like this:Like Loading...
URL:https://abundantlivingwithvicki.com/event/reading-my-books-at-the-royal-roost/
LOCATION:WI
CATEGORIES:Author Event
ATTACH;FMTTYPE=image/png:https://abundantlivingwithvicki.com/wp-content/uploads/2025/04/1.png
END:VEVENT
END:VCALENDAR