BEGIN:VCALENDAR
VERSION:2.0
PRODID:-//Abundant Living with Vicki - ECPv6.15.20//NONSGML v1.0//EN
CALSCALE:GREGORIAN
METHOD:PUBLISH
X-ORIGINAL-URL:https://abundantlivingwithvicki.com
X-WR-CALDESC:Events for Abundant Living with Vicki
REFRESH-INTERVAL;VALUE=DURATION:PT1H
X-Robots-Tag:noindex
X-PUBLISHED-TTL:PT1H
BEGIN:VTIMEZONE
TZID:America/Chicago
BEGIN:DAYLIGHT
TZOFFSETFROM:-0600
TZOFFSETTO:-0500
TZNAME:CDT
DTSTART:20250309T080000
END:DAYLIGHT
BEGIN:STANDARD
TZOFFSETFROM:-0500
TZOFFSETTO:-0600
TZNAME:CST
DTSTART:20251102T070000
END:STANDARD
BEGIN:DAYLIGHT
TZOFFSETFROM:-0600
TZOFFSETTO:-0500
TZNAME:CDT
DTSTART:20260308T080000
END:DAYLIGHT
BEGIN:STANDARD
TZOFFSETFROM:-0500
TZOFFSETTO:-0600
TZNAME:CST
DTSTART:20261101T070000
END:STANDARD
BEGIN:DAYLIGHT
TZOFFSETFROM:-0600
TZOFFSETTO:-0500
TZNAME:CDT
DTSTART:20270314T080000
END:DAYLIGHT
BEGIN:STANDARD
TZOFFSETFROM:-0500
TZOFFSETTO:-0600
TZNAME:CST
DTSTART:20271107T070000
END:STANDARD
END:VTIMEZONE
BEGIN:VEVENT
DTSTART;TZID=America/Chicago:20260412T100000
DTEND;TZID=America/Chicago:20260412T140000
DTSTAMP:20260423T045942
CREATED:20260220T161035Z
LAST-MODIFIED:20260220T161035Z
UID:2120-1775988000-1776002400@abundantlivingwithvicki.com
SUMMARY:Terrace 167 Spring Craftacular
DESCRIPTION:I will be here with my books and some info about Belief Code. Come join me!! \nIts gonna be a blast!!  This is a beatiful venue in Richfield\, just down the street from me. \n  \n“Terrace 167 is excited to announce our Spring Craftacular! \nFilled with unique\, artsy\, whimsical crafters ready for you to explore new artists and products. This event offers FREE admission and is perfect for a stress free Sunday shopping extravaganza. An awesome event to look forward to\, just in time for Wisconsin to thaw from this deep winter. \nJoin us to find one of a kind gifts along with treating yourself while sipping your drink of choice. Let’s shop!” \nShare this:\n				Print (Opens in new window)\n				Print\n			Like this:Like Loading...
URL:https://abundantlivingwithvicki.com/event/terrace-167-spring-craftacular/
LOCATION:Terrace 167\, 3210 State Road 167\, Richfield\, WI\, 53076\, United States
CATEGORIES:Author Event,vendor event
ATTACH;FMTTYPE=image/jpeg:https://abundantlivingwithvicki.com/wp-content/uploads/2026/02/Image-5.jpeg
END:VEVENT
END:VCALENDAR